BEGIN:VCALENDAR
VERSION:2.0
PRODID:EVENTFROG//EVENT//ICAL
BEGIN:VEVENT
UID:20260420T002207Z-7451592127379680321@eventfrog.de
DTSTAMP:20260420T002207Z
DTSTART:20260812T170000Z
DTEND:20260812T190000Z
SUMMARY:Sonnenfinsternis Spezial – Jura-Sternwarte Grenchen
DESCRIPTION:Die Jura-Sternwarte Grenchen lädt am 12. August 2026 zur Beobachtung der partiellen Sonnenfinsternis mit fachkundiger Begleitung ein.\n\nhttps://eventfrog.de/de/p/wissenschaft-und-technik/sonnenfinsternis-spezial-jura-sternwarte-grenchen-7451592127379680321.html
LOCATION:Jurasternwarte Grenchen
GEO:47.221411;7.380610
URL:https://eventfrog.de/de/p/wissenschaft-und-technik/sonnenfinsternis-spezial-jura-sternwarte-grenchen-7451592127379680321.html
END:VEVENT
END:VCALENDAR