BEGIN:VCALENDAR
VERSION:2.0
PRODID:EVENTFROG//EVENT//ICAL
BEGIN:VEVENT
UID:20260424T083407Z-7451594605282235844@eventfrog.de
DTSTAMP:20260424T083407Z
DTSTART:20260503T140000Z
DTEND:20260503T200000Z
SUMMARY:️ KIZ LAB – SPRING EDITION (ROOFTOP EDITION) ️
DESCRIPTION:KIZ LAB bietet Workshop und Tanz auf der Dachterrasse in Schlieren mit DJ A.B.C & DJ FAYOLA am 16.00-22.00 Uhr.\n\nhttps://eventfrog.de/de/p/partys/latin-brasil/kiz-lab-spring-edition-rooftop-edition-7451594605282235844.html
LOCATION:LIEBLING Restaurant.Bar.Lounge
GEO:47.397160;8.464499
URL:https://eventfrog.de/de/p/partys/latin-brasil/kiz-lab-spring-edition-rooftop-edition-7451594605282235844.html
END:VEVENT
END:VCALENDAR