BEGIN:VCALENDAR
VERSION:2.0
PRODID:EVENTFROG//EVENT//ICAL
BEGIN:VEVENT
UID:20260424T063718Z-7451595294142125624@eventfrog.de
DTSTAMP:20260424T063718Z
DTSTART:20260501T100000Z
DTEND:20260501T104500Z
SUMMARY:Plaza. Ein partizipative Performance von Li Binyuan
DESCRIPTION:Li Binyuan lädt am 24./25.1. zu einer Klang-Performance mit Augenbinde im Humboldt Forum, Thema: Verbundenheit durch persönliche Laute.\n\nhttps://eventfrog.de/de/p/theater-buehne/experimentelles-theater/plaza-ein-partizipative-performance-von-li-binyuan-7451595294142125624.html
LOCATION:Humboldt Forum
GEO:52.517275;13.401640
URL:https://eventfrog.de/de/p/theater-buehne/experimentelles-theater/plaza-ein-partizipative-performance-von-li-binyuan-7451595294142125624.html
END:VEVENT
END:VCALENDAR