BEGIN:VCALENDAR
VERSION:2.0
PRODID:EVENTFROG//EVENT//ICAL
BEGIN:VEVENT
UID:20260424T084851Z-7451600321975961412@eventfrog.de
DTSTAMP:20260424T084851Z
DTSTART:20260430T130000Z
DTEND:20260430T150000Z
SUMMARY:Vortrag: OEKO isch gsund
DESCRIPTION:"OEKO isch gsund" - Mediziin und Umwelt stehen in engem Zusammenhang für uns alle\n\nhttps://eventfrog.de/de/p/fuehrungen-vortraege/vortrag/vortrag-oeko-isch-gsund-7451600321975961412.html
LOCATION:Gemeinschaftszentrum Telli
GEO:47.398840;8.057790
URL:https://eventfrog.de/de/p/fuehrungen-vortraege/vortrag/vortrag-oeko-isch-gsund-7451600321975961412.html
END:VEVENT
END:VCALENDAR