BEGIN:VCALENDAR
VERSION:2.0
PRODID:EVENTFROG//EVENT//ICAL
BEGIN:VEVENT
UID:20260424T031154Z-7451604070417070672@eventfrog.de
DTSTAMP:20260424T031154Z
DTSTART:20260514T173000Z
DTEND:20260514T203000Z
SUMMARY:Gipsy Flamenco & Mallorquinische Pinchos in OSCARS
DESCRIPTION:Jairos The Gipsy Flamenco Project begeistert mit leidenschaftlichem Flamenco, Tanz und kulinarischen Spezialitäten im Hotel OSCARS HOTEL 1415 in Bad Liebenzell\n\nhttps://eventfrog.de/de/p/konzerte/world-ethno/gipsy-flamenco-mallorquinische-pinchos-in-oscars-7451604070417070672.html
LOCATION:OSCARS Hotel 1415
GEO:48.766705;8.730291
URL:https://eventfrog.de/de/p/konzerte/world-ethno/gipsy-flamenco-mallorquinische-pinchos-in-oscars-7451604070417070672.html
END:VEVENT
END:VCALENDAR