BEGIN:VCALENDAR
VERSION:2.0
PRODID:EVENTFROG//EVENT//ICAL
BEGIN:VEVENT
UID:20260420T012750Z-7451606893846395777@eventfrog.de
DTSTAMP:20260420T012750Z
DTSTART:20260806T170000Z
DTEND:20260806T193000Z
SUMMARY:Begegnungsabend
DESCRIPTION:Ab 1.5.26 lädt 'Hand und Herz' monatlich Frauen zu einem kreativen Austauschabend mit gemeinsamen Projekten ohne Druck ein.\n\nhttps://eventfrog.de/de/p/kurse-seminare/freizeit-hobby/begegnungsabend-7451606893846395777.html
LOCATION:Crea Party
GEO:47.499998;7.720026
URL:https://eventfrog.de/de/p/kurse-seminare/freizeit-hobby/begegnungsabend-7451606893846395777.html
END:VEVENT
END:VCALENDAR