BEGIN:VCALENDAR
VERSION:2.0
PRODID:EVENTFROG//EVENT//ICAL
BEGIN:VEVENT
UID:20260420T000017Z-7451634041940392360@eventfrog.de
DTSTAMP:20260420T000017Z
DTSTART:20261212T070000Z
DTEND:20261212T210000Z
SUMMARY:Das Geheimnis der Hainbuchenzimmer Outdoor-Escape tgl 8-22U
DESCRIPTION:Im Rokoko-Park Kohren-Sahlis lösen 2-6 Personen Rätsel an sechs Station Rätsel lösen, Codes knacken und den Rokoko-Park neu entdecken:\nEin Outdoor-en und entdecken geheime Spuren der Parkgeschichte\n\nhttps://eventfrog.de/de/p/freizeit-ausfluege/gruppen-spiele/das-geheimnis-der-hainbuchenzimmer-outdoor-escape-tgl-8-22u-7451634041940392360.html
LOCATION:Rittergut Kohren-Sahlis mit Schloss Sahlis & Rokoko-Park
GEO:51.012381;12.613274
URL:https://eventfrog.de/de/p/freizeit-ausfluege/gruppen-spiele/das-geheimnis-der-hainbuchenzimmer-outdoor-escape-tgl-8-22u-7451634041940392360.html
END:VEVENT
END:VCALENDAR