BEGIN:VCALENDAR
VERSION:2.0
PRODID:EVENTFROG//EVENT//ICAL
BEGIN:VEVENT
UID:20260420T072618Z-7451653926221293021@eventfrog.de
DTSTAMP:20260420T072618Z
DTSTART:20260508T190000Z
DTEND:20260509T010000Z
SUMMARY:Ü40 PARTY MÜNCHEN» Die große Ü40 Kultparty im Nachtwerk Club
DESCRIPTION:Feiert mit uns ins Wochenende zu einer bunten Mischung der Kulthits der letzten Jahrzehnte aus Pop, Rock, Synthie, New Wave, Disco, Funk & Soul!\n\nLasst uns das Leben tanzen!\n\nWir freuen uns auf Euch!\n\n\nhttps://eventfrog.de/de/p/partys/pop-rock/ue40-party-muenchen-die-grosse-ue40-kultparty-im-nachtwerk-club-7451653926221293021.html
LOCATION:Nachtwerk Club
GEO:48.139760;11.522840
URL:https://eventfrog.de/de/p/partys/pop-rock/ue40-party-muenchen-die-grosse-ue40-kultparty-im-nachtwerk-club-7451653926221293021.html
END:VEVENT
END:VCALENDAR