BEGIN:VCALENDAR
VERSION:2.0
PRODID:EVENTFROG//EVENT//ICAL
BEGIN:VEVENT
UID:20260424T144217Z-7451654201900332177@eventfrog.de
DTSTAMP:20260424T144217Z
DTSTART:20260501T083000Z
DTEND:20260501T163000Z
SUMMARY:Schicksal oder Wahl? Thementage rund um Verwandtschaft
DESCRIPTION:Zweitägiges Festival im Humboldt Forum zeigt Tanz, Lesungen und Gespräche zu Familie, Wahlfamilie und Beziehungen.\n\nhttps://eventfrog.de/de/p/kinderveranstaltungen/familienveranstaltungen/schicksal-oder-wahl-thementage-rund-um-verwandtschaft-7451654201900332177.html
LOCATION:Humboldt Forum
GEO:52.517275;13.401640
URL:https://eventfrog.de/de/p/kinderveranstaltungen/familienveranstaltungen/schicksal-oder-wahl-thementage-rund-um-verwandtschaft-7451654201900332177.html
END:VEVENT
END:VCALENDAR