BEGIN:VCALENDAR
VERSION:2.0
PRODID:EVENTFROG//EVENT//ICAL
BEGIN:VEVENT
UID:20260424T093326Z-7451669116224585788@eventfrog.de
DTSTAMP:20260424T093326Z
DTSTART:20260510T150000Z
SUMMARY:"danza danza!"
DESCRIPTION:Tänzerische Musik zum Muttertag\n\nhttps://eventfrog.de/de/p/konzerte/weitere-musikrichtungen/danza-danza-7451669116224585788.html
LOCATION:Schloss Arbon
GEO:47.515973;9.436412
URL:https://eventfrog.de/de/p/konzerte/weitere-musikrichtungen/danza-danza-7451669116224585788.html
END:VEVENT
END:VCALENDAR