BEGIN:VCALENDAR
VERSION:2.0
PRODID:EVENTFROG//EVENT//ICAL
BEGIN:VEVENT
UID:20260419T234820Z-7451680770291156851@eventfrog.de
DTSTAMP:20260419T234820Z
DTSTART:20260502T080000Z
DTEND:20260502T150000Z
SUMMARY:Grosse Bühne für die Astronomie in Aarau
DESCRIPTION:Am 2. Mai besteht im KuK Aarau Gelegenheit, Vorträgen zu Astronomiethemen beizuwohnen. Die Astronomische Vereinigung Aarau freut sich auf Sie - freier Eintritt!\n\nhttps://eventfrog.de/de/p/wissenschaft-und-technik/grosse-buehne-fuer-die-astronomie-in-aarau-7451680770291156851.html
LOCATION:KUK Aarau
GEO:47.393872;8.044911
URL:https://eventfrog.de/de/p/wissenschaft-und-technik/grosse-buehne-fuer-die-astronomie-in-aarau-7451680770291156851.html
END:VEVENT
END:VCALENDAR