BEGIN:VCALENDAR
VERSION:2.0
PRODID:EVENTFROG//EVENT//ICAL
BEGIN:VEVENT
UID:20260420T010256Z-7451681708900889051@eventfrog.de
DTSTAMP:20260420T010256Z
DTSTART:20260422T170000Z
DTEND:20260422T183000Z
SUMMARY:Lakeside Pilates
DESCRIPTION:Lakeside Pilates \n\nhttps://eventfrog.de/de/p/sport-fitness/yoga/lakeside-pilates-7451681708900889051.html
LOCATION:Rentenwiese
GEO:47.363149;8.536204
URL:https://eventfrog.de/de/p/sport-fitness/yoga/lakeside-pilates-7451681708900889051.html
END:VEVENT
END:VCALENDAR