BEGIN:VCALENDAR
VERSION:2.0
PRODID:EVENTFROG//EVENT//ICAL
BEGIN:VEVENT
UID:20260420T043029Z-7451698963130900752@eventfrog.de
DTSTAMP:20260420T043029Z
DTSTART:20260512T173000Z
DTEND:20260512T190000Z
SUMMARY:Professionelle Menschenkenntnis
DESCRIPTION:Willst du Menschen erkennen wie sie wirklich sind? Willst du verstehen lernen, wie Menschen "ticken" und so unterschiedlich sein können? Willst du weniger Missverständnisse in deinem Leben?\n\nhttps://eventfrog.de/de/p/diverses/professionelle-menschenkenntnis-7451698963130900752.html
LOCATION:Eschbach Coaching
GEO:47.545122;7.586780
URL:https://eventfrog.de/de/p/diverses/professionelle-menschenkenntnis-7451698963130900752.html
END:VEVENT
END:VCALENDAR