BEGIN:VCALENDAR
VERSION:2.0
PRODID:EVENTFROG//EVENT//ICAL
BEGIN:VEVENT
UID:20260420T120316Z-7451707436640001229@eventfrog.de
DTSTAMP:20260420T120316Z
DTSTART:20260612T160000Z
DTEND:20260612T230000Z
SUMMARY:Eulach Vibes – Special Edition
DESCRIPTION:The Pioneers (JAM) und Travelers All Stars (MEX) begeistern mit Reggae, DJ Volcanic Heat sorgt für die guten Pre- und After-Vibes im Lok.al Winterthur.\n\nhttps://eventfrog.de/de/p/konzerte/reggae-ska/eulach-vibes-special-edition-7451707436640001229.html
LOCATION:Lok.al
GEO:47.494262;8.734270
URL:https://eventfrog.de/de/p/konzerte/reggae-ska/eulach-vibes-special-edition-7451707436640001229.html
END:VEVENT
END:VCALENDAR