BEGIN:VCALENDAR
VERSION:2.0
PRODID:EVENTFROG//EVENT//ICAL
BEGIN:VEVENT
UID:20260420T015346Z-7451717526654834747@eventfrog.de
DTSTAMP:20260420T015346Z
DTSTART:20260529T180000Z
DTEND:20260529T200000Z
SUMMARY:PITCH PLEASE! The improvised musical showdown
DESCRIPTION:PITCH PLEASE! THE MUSICAL SHOWDOWN is a fully improvised battle of the bands at Dynamo\n\nhttps://eventfrog.de/en/p/musicals-shows/musical/pitch-please-the-improvised-musical-showdown-7451717526654834747.html
LOCATION:Dynamo Werk 21 (Cellar)
GEO:47.383401;8.539382
URL:https://eventfrog.de/en/p/musicals-shows/musical/pitch-please-the-improvised-musical-showdown-7451717526654834747.html
END:VEVENT
END:VCALENDAR