BEGIN:VCALENDAR
VERSION:2.0
PRODID:EVENTFROG//EVENT//ICAL
BEGIN:VEVENT
UID:20260420T065307Z-7451731199477701070@eventfrog.de
DTSTAMP:20260420T065307Z
DTSTART:20260424T123000Z
DTEND:20260424T150000Z
SUMMARY:Spilpi Treff
DESCRIPTION:Verbringen Sie einen fröhlichen Tag auf dem Spielplatz mit Spielen und Kaffeegenuss in entspannter, gemütlicher Atmosphäre.\n\nhttps://eventfrog.de/de/p/kinderveranstaltungen/familienveranstaltungen/spilpi-treff-7451731199477701070.html
LOCATION:Gemeindespielplatz Würenlos
GEO:47.444020;8.368523
URL:https://eventfrog.de/de/p/kinderveranstaltungen/familienveranstaltungen/spilpi-treff-7451731199477701070.html
END:VEVENT
END:VCALENDAR