BEGIN:VCALENDAR
VERSION:2.0
PRODID:EVENTFROG//EVENT//ICAL
BEGIN:VEVENT
UID:20260420T040356Z-7451736595172989570@eventfrog.de
DTSTAMP:20260420T040356Z
DTSTART:20260627T180000Z
DTEND:20260627T200000Z
SUMMARY:Stimmungsvolle Abendführung Salzburg
DESCRIPTION:Erleben Sie die Salzburgs Altstadt mit ihren traumhaften Fassaden, schönsten Gassen und beeindruckendsten Plätzen entspannt und in einer ganz besonderen Atmosphäre. \n\nhttps://eventfrog.de/de/p/fuehrungen-vortraege/fuehrung/stimmungsvolle-abendfuehrung-salzburg-7451736595172989570.html
LOCATION:Eingang Schloss Mirabell
GEO:47.805304;13.043195
URL:https://eventfrog.de/de/p/fuehrungen-vortraege/fuehrung/stimmungsvolle-abendfuehrung-salzburg-7451736595172989570.html
END:VEVENT
END:VCALENDAR