BEGIN:VCALENDAR
VERSION:2.0
PRODID:EVENTFROG//EVENT//ICAL
BEGIN:VEVENT
UID:20260424T081948Z-7451748252863466356@eventfrog.de
DTSTAMP:20260424T081948Z
DTSTART:20260505T183000Z
SUMMARY:37. Schaffhauser Jazzfestival
DESCRIPTION:Diverse Acts.\n\nhttps://eventfrog.de/de/p/konzerte/37-schaffhauser-jazzfestival-7451748252863466356.html
LOCATION:Kammgarn
GEO:47.695890;8.638049
URL:https://eventfrog.de/de/p/konzerte/37-schaffhauser-jazzfestival-7451748252863466356.html
END:VEVENT
END:VCALENDAR