BEGIN:VCALENDAR
VERSION:2.0
PRODID:EVENTFROG//EVENT//ICAL
BEGIN:VEVENT
UID:20260424T083323Z-7451751388017605841@eventfrog.de
DTSTAMP:20260424T083323Z
DTSTART:20260501T220000Z
DTEND:20260621T215900Z
SUMMARY:Surface. Fragment. Body
DESCRIPTION:Surface. Fragment. Body\n\nhttps://eventfrog.de/de/p/kunst-ausstellungen/surface-fragment-body-7451751388017605841.html
LOCATION:Kunsthalle Luzern
GEO:47.056300;8.311160
URL:https://eventfrog.de/de/p/kunst-ausstellungen/surface-fragment-body-7451751388017605841.html
END:VEVENT
END:VCALENDAR