BEGIN:VCALENDAR
VERSION:2.0
PRODID:EVENTFROG//EVENT//ICAL
BEGIN:VEVENT
UID:20260420T051117Z-7451751716398057189@eventfrog.de
DTSTAMP:20260420T051117Z
DTSTART:20260515T173000Z
SUMMARY:Das Taptab Fussballquiz
DESCRIPTION:Gesucht wird die grösste Schaffhauser Fussballbirne.\n\nhttps://eventfrog.de/de/p/diverses/das-taptab-fussballquiz-7451751716398057189.html
LOCATION:TapTab
GEO:47.694535;8.636379
URL:https://eventfrog.de/de/p/diverses/das-taptab-fussballquiz-7451751716398057189.html
END:VEVENT
END:VCALENDAR