BEGIN:VCALENDAR
VERSION:2.0
PRODID:EVENTFROG//EVENT//ICAL
BEGIN:VEVENT
UID:20260424T080301Z-7451751716792321768@eventfrog.de
DTSTAMP:20260424T080301Z
DTSTART:20260529T184500Z
SUMMARY:Dark Hall: Amixs & Tarn
DESCRIPTION:Synth- und Darkwave.\n\nhttps://eventfrog.de/de/p/konzerte/dark-hall-amixs-tarn-7451751716792321768.html
LOCATION:TapTab
GEO:47.694535;8.636379
URL:https://eventfrog.de/de/p/konzerte/dark-hall-amixs-tarn-7451751716792321768.html
END:VEVENT
END:VCALENDAR