BEGIN:VCALENDAR
VERSION:2.0
PRODID:EVENTFROG//EVENT//ICAL
BEGIN:VEVENT
UID:20260424T094038Z-7451751834245441133@eventfrog.de
DTSTAMP:20260424T094038Z
DTSTART:20260507T220000Z
DTEND:20260530T215900Z
SUMMARY:Matthias Estermann: A new skin for an old ceremony II
DESCRIPTION:Matthias Estermann: A new skin for an old ceremony II\n\nhttps://eventfrog.de/de/p/kunst-ausstellungen/matthias-estermann-a-new-skin-for-an-old-ceremony-ii-7451751834245441133.html
LOCATION:B74 – Raum für Kunst
GEO:47.053799;8.292761
URL:https://eventfrog.de/de/p/kunst-ausstellungen/matthias-estermann-a-new-skin-for-an-old-ceremony-ii-7451751834245441133.html
END:VEVENT
END:VCALENDAR