BEGIN:VCALENDAR
VERSION:2.0
PRODID:EVENTFROG//EVENT//ICAL
BEGIN:VEVENT
UID:20260420T051112Z-7451752072104404329@eventfrog.de
DTSTAMP:20260420T051112Z
DTSTART:20260515T160000Z
SUMMARY:Edition 5, Maja Bringolf, Vincent Kohler
DESCRIPTION:Edition 5, Maja Bringolf, Vincent Kohler\n\nhttps://eventfrog.de/de/p/kunst-ausstellungen/edition-5-maja-bringolf-vincent-kohler-7451752072104404329.html
LOCATION:Vebikus Kunsthalle Schaffhausen
GEO:47.694549;8.636361
URL:https://eventfrog.de/de/p/kunst-ausstellungen/edition-5-maja-bringolf-vincent-kohler-7451752072104404329.html
END:VEVENT
END:VCALENDAR