BEGIN:VCALENDAR
VERSION:2.0
PRODID:EVENTFROG//EVENT//ICAL
BEGIN:VEVENT
UID:20260424T074719Z-7451753060425049419@eventfrog.de
DTSTAMP:20260424T074719Z
DTSTART:20260516T180000Z
SUMMARY:Proper Dose und Wave Cut
DESCRIPTION:Punkrock-Band aus Zürich.\n\nhttps://eventfrog.de/de/p/konzerte/proper-dose-und-wave-cut-7451753060425049419.html
LOCATION:Toms Beer Box
GEO:46.848764;9.530459
URL:https://eventfrog.de/de/p/konzerte/proper-dose-und-wave-cut-7451753060425049419.html
END:VEVENT
END:VCALENDAR