BEGIN:VCALENDAR
VERSION:2.0
PRODID:EVENTFROG//EVENT//ICAL
BEGIN:VEVENT
UID:20260424T071511Z-7451754014612424766@eventfrog.de
DTSTAMP:20260424T071511Z
DTSTART:20260502T080000Z
SUMMARY:Biopop aka Urs Lehmann – Ein Nachlass der nachwächst
DESCRIPTION:Biopop aka Urs Lehmann - Ein Nachlass der nachwächst\n\nhttps://eventfrog.de/de/p/kunst-ausstellungen/biopop-aka-urs-lehmann-ein-nachlass-der-nachwaechst-7451754014612424766.html
LOCATION:Museümli
GEO:47.157025;9.467616
URL:https://eventfrog.de/de/p/kunst-ausstellungen/biopop-aka-urs-lehmann-ein-nachlass-der-nachwaechst-7451754014612424766.html
END:VEVENT
END:VCALENDAR