BEGIN:VCALENDAR
VERSION:2.0
PRODID:EVENTFROG//EVENT//ICAL
BEGIN:VEVENT
UID:20260420T064453Z-7451754018039171232@eventfrog.de
DTSTAMP:20260420T064453Z
DTSTART:20260424T170000Z
SUMMARY:Vernissage Vier Seiten Leben
DESCRIPTION:«Vier Seiten Leben. Der Fall Martha L.» von Dorothee Kohler\n\nhttps://eventfrog.de/de/p/theater-buehne/vernissage-vier-seiten-leben-7451754018039171232.html
LOCATION:Orelll Füssli Wil
GEO:47.464504;9.043651
URL:https://eventfrog.de/de/p/theater-buehne/vernissage-vier-seiten-leben-7451754018039171232.html
END:VEVENT
END:VCALENDAR