BEGIN:VCALENDAR
VERSION:2.0
PRODID:EVENTFROG//EVENT//ICAL
BEGIN:VEVENT
UID:20260421T151747Z-7451763223458539037@eventfrog.de
DTSTAMP:20260421T151747Z
DTSTART:20260516T200000Z
DTEND:20260517T020000Z
SUMMARY:NTA 2 YEAR ANNIVERSARY @ Fortuna Irgendwo Frankfurt
DESCRIPTION:NTA EVENTS feiert am 16.5. im Fortuna Irgendwo das 2-jährige Jubiläum der NTA HOUSE SESSIONS mit exklusiver House Music\n\nhttps://eventfrog.de/de/p/partys/house-techno/nta-2-year-anniversary-fortuna-irgendwo-frankfurt-7451763223458539037.html
LOCATION:Fortuna Irgendwo
GEO:50.114852;8.722763
URL:https://eventfrog.de/de/p/partys/house-techno/nta-2-year-anniversary-fortuna-irgendwo-frankfurt-7451763223458539037.html
END:VEVENT
END:VCALENDAR