BEGIN:VCALENDAR
VERSION:2.0
PRODID:EVENTFROG//EVENT//ICAL
BEGIN:VEVENT
UID:20260422T084108Z-7451893632095782399@eventfrog.de
DTSTAMP:20260422T084108Z
DTSTART:20260528T180000Z
SUMMARY:Matt Epp Trio
DESCRIPTION:Am 28. Mai genießt Ihr ein ganz besonderes OpenAir Konzert. \nEinlass 19.00 Uhr\nBeginn 20.00 Uhr\nSpeisen und Getränke gibt es vor Ort.\nBitte eigene Sitzgelegenheit mitbringen.\n\nhttps://eventfrog.de/de/p/festivals/weitere-festivals/matt-epp-trio-7451893632095782399.html
LOCATION:Pfarrgarten
GEO:50.632793;12.665364
URL:https://eventfrog.de/de/p/festivals/weitere-festivals/matt-epp-trio-7451893632095782399.html
END:VEVENT
END:VCALENDAR