BEGIN:VCALENDAR
VERSION:2.0
PRODID:EVENTFROG//EVENT//ICAL
BEGIN:VEVENT
UID:20260424T100026Z-7451897645964997597@eventfrog.de
DTSTAMP:20260424T100026Z
DTSTART:20260606T140000Z
DTEND:20260606T163000Z
SUMMARY:Whisky Journey
DESCRIPTION:Bei unserer Whisky Journey kommen Sie in den Genuss von 11 sorgfältig ausgewählten schottischen Whiskys, begleitet von einem ausgiebigen Apéro Riche. \n\nhttps://eventfrog.de/de/p/essen-trinken/whisky-journey-7451897645964997597.html
LOCATION:James Joyce
GEO:47.372216;8.537036
URL:https://eventfrog.de/de/p/essen-trinken/whisky-journey-7451897645964997597.html
END:VEVENT
END:VCALENDAR