BEGIN:VCALENDAR
VERSION:2.0
PRODID:EVENTFROG//EVENT//ICAL
BEGIN:VEVENT
UID:20260426T012649Z-7451906072527291425@eventfrog.de
DTSTAMP:20260426T012649Z
DTSTART:20260620T200000Z
DTEND:20260621T020000Z
SUMMARY:Ü30 Party Dresden
DESCRIPTION:Die Ü30 Party Dresden steigt am 20.6. ab 22 Uhr im Hans im Club mit Hits, Classics und bester Stimmung.\n\nhttps://eventfrog.de/de/p/partys/mottoparty/ue30-party-dresden-7451906072527291425.html
LOCATION:Hans im Club
GEO:51.049236;13.734614
URL:https://eventfrog.de/de/p/partys/mottoparty/ue30-party-dresden-7451906072527291425.html
END:VEVENT
END:VCALENDAR