BEGIN:VCALENDAR
VERSION:2.0
PRODID:EVENTFROG//EVENT//ICAL
BEGIN:VEVENT
UID:20260421T180335Z-7451909234613041588@eventfrog.de
DTSTAMP:20260421T180335Z
DTSTART:20260527T110000Z
DTEND:20260527T114500Z
SUMMARY:Praxisnahe Vorstellung Live-Audiodeskription (1)
DESCRIPTION:Lucas Schmelz, Laura Marmit und Ann-Marit Micheel zeigen live die Audiodeskription im Projekt T_OHR vor Ort.\n\nhttps://eventfrog.de/de/p/kurse-seminare/sonstige-kurse-seminare/praxisnahe-vorstellung-live-audiodeskription-1-7451909234613041588.html
LOCATION:Kap Europa, Frankfurt am Main, DE, auf der der Sport & Musik Bühne
GEO:50.109966;8.653981
URL:https://eventfrog.de/de/p/kurse-seminare/sonstige-kurse-seminare/praxisnahe-vorstellung-live-audiodeskription-1-7451909234613041588.html
END:VEVENT
END:VCALENDAR