BEGIN:VCALENDAR
VERSION:2.0
PRODID:EVENTFROG//EVENT//ICAL
BEGIN:VEVENT
UID:20260424T080255Z-7451909377903056346@eventfrog.de
DTSTAMP:20260424T080255Z
DTSTART:20260509T130000Z
DTEND:20260509T215900Z
SUMMARY:Contre-jour #5
DESCRIPTION:  Contre-jour #5 à oQo Studio   09.05.26\n\nhttps://eventfrog.de/fr/p/soirees-fetes/electro/contre-jour-5-7451909377903056346.html
LOCATION:oQo Studio
GEO:46.227205;7.365445
URL:https://eventfrog.de/fr/p/soirees-fetes/electro/contre-jour-5-7451909377903056346.html
END:VEVENT
END:VCALENDAR