BEGIN:VCALENDAR
VERSION:2.0
PRODID:EVENTFROG//EVENT//ICAL
BEGIN:VEVENT
UID:20260424T101258Z-7451909691997724115@eventfrog.de
DTSTAMP:20260424T101258Z
DTSTART:20260531T133000Z
DTEND:20260531T153000Z
SUMMARY:COMEDY AWARD NIGHT ENGLISH
DESCRIPTION:Comedy Open Mic by stahufcomedy.ch presents newcomers and pros with seven-minute acts.\n\nhttps://eventfrog.de/de/p/theater-buehne/comedy-kabarett/comedy-award-night-english-7451909691997724115.html
LOCATION:Cave Du Luc
GEO:47.472354;8.307145
URL:https://eventfrog.de/de/p/theater-buehne/comedy-kabarett/comedy-award-night-english-7451909691997724115.html
END:VEVENT
END:VCALENDAR