BEGIN:VCALENDAR
VERSION:2.0
PRODID:EVENTFROG//EVENT//ICAL
BEGIN:VEVENT
UID:20260421T180357Z-7451915797956399474@eventfrog.de
DTSTAMP:20260421T180357Z
DTSTART:20260527T134500Z
DTEND:20260527T141500Z
SUMMARY:Wenn sich Sehen verändert – warum Aufgeben keine Option  ist
DESCRIPTION:Anja Renner berichtet, wie sie trotz Sehverschlechterung im Paratriathlon Bronze an den Paralympics 2024 gewann und ihr Leben neu gestaltet.\n\nhttps://eventfrog.de/de/p/fuehrungen-vortraege/vortrag/wenn-sich-sehen-veraendert-warum-aufgeben-keine-option-ist-7451915797956399474.html
LOCATION:Kap Europa, Frankfurt am Main, DE, auf der der Sport & Musik Bühne
GEO:50.109966;8.653981
URL:https://eventfrog.de/de/p/fuehrungen-vortraege/vortrag/wenn-sich-sehen-veraendert-warum-aufgeben-keine-option-ist-7451915797956399474.html
END:VEVENT
END:VCALENDAR