BEGIN:VCALENDAR
VERSION:2.0
PRODID:EVENTFROG//EVENT//ICAL
BEGIN:VEVENT
UID:20260422T181526Z-7451941265975804644@eventfrog.de
DTSTAMP:20260422T181526Z
DTSTART:20260508T163000Z
DTEND:20260607T090000Z
SUMMARY:Monatsretreat  im Little Paradise bei Hamburg
DESCRIPTION:Hauptthemen des Retreats bei Hamburg sind: Einkehr, Rückverbindung, Selbstfindung, Meditation, Stille und Natur.\n\nhttps://eventfrog.de/de/p/gesundheit-spiritualitaet/spiritualitaet/monatsretreat-im-little-paradise-bei-hamburg-7451941265975804644.html
LOCATION:Little Paradise
GEO:53.652993;10.327540
URL:https://eventfrog.de/de/p/gesundheit-spiritualitaet/spiritualitaet/monatsretreat-im-little-paradise-bei-hamburg-7451941265975804644.html
END:VEVENT
END:VCALENDAR