BEGIN:VCALENDAR
VERSION:2.0
PRODID:EVENTFROG//EVENT//ICAL
BEGIN:VEVENT
UID:20260424T084820Z-7451942914278583204@eventfrog.de
DTSTAMP:20260424T084820Z
DTSTART:20260508T200000Z
DTEND:20260509T020000Z
SUMMARY:18connected
DESCRIPTION:Project 1\n\nhttps://eventfrog.de/en/p/parties/charts-open-format/18connected-7451942914278583204.html
LOCATION:DEZENT.
GEO:47.425361;9.373692
URL:https://eventfrog.de/en/p/parties/charts-open-format/18connected-7451942914278583204.html
END:VEVENT
END:VCALENDAR