BEGIN:VCALENDAR
VERSION:2.0
PRODID:EVENTFROG//EVENT//ICAL
BEGIN:VEVENT
UID:20260424T123758Z-7451943388885065937@eventfrog.de
DTSTAMP:20260424T123758Z
DTSTART:20260618T120000Z
DTEND:20260618T133000Z
SUMMARY:Open Lab Day Lernlabor Cybersicherheit – Faktor Mensch​​
DESCRIPTION:Unternehmenssicherheit beginnt beim Menschen​\n\nhttps://eventfrog.de/de/p/wissenschaft-und-technik/open-lab-day-lernlabor-cybersicherheit-faktor-mensch-7451943388885065937.html
LOCATION:Open Lab Day - Erlebniswelt
GEO:49.150139;9.216152
URL:https://eventfrog.de/de/p/wissenschaft-und-technik/open-lab-day-lernlabor-cybersicherheit-faktor-mensch-7451943388885065937.html
END:VEVENT
END:VCALENDAR