BEGIN:VCALENDAR
VERSION:2.0
PRODID:EVENTFROG//EVENT//ICAL
BEGIN:VEVENT
UID:20260421T194738Z-7451958439071196694@eventfrog.de
DTSTAMP:20260421T194738Z
DTSTART:20260530T070000Z
DTEND:20260530T110000Z
SUMMARY:3. FLOHMARKT DER FREIEN WALDORDFSCHULE DARMSTADT
DESCRIPTION:Zum 3. Mal laden wir zu unserem Flohmarkt am 30.05.2026 von 09 Uhr bis 13 Uhr ein! \n\nhttps://eventfrog.de/de/p/maerkte/flohmarkt/3-flohmarkt-der-freien-waldordfschule-darmstadt-7451958439071196694.html
LOCATION:Waldorfschule, Darmstadt
GEO:49.815220;8.639872
URL:https://eventfrog.de/de/p/maerkte/flohmarkt/3-flohmarkt-der-freien-waldordfschule-darmstadt-7451958439071196694.html
END:VEVENT
END:VCALENDAR