BEGIN:VCALENDAR
VERSION:2.0
PRODID:EVENTFROG//EVENT//ICAL
BEGIN:VEVENT
UID:20260420T184724Z-7451959429627409714@eventfrog.de
DTSTAMP:20260420T184724Z
DTSTART:20260522T173000Z
DTEND:20260524T130000Z
SUMMARY:Int. Blasmusikfestival "Der böhmische Traum" 2026
DESCRIPTION:#sooovielliebe\n\nhttps://eventfrog.de/de/p/festivals/weitere-festivals/int-blasmusikfestival-der-boehmische-traum-2026-7451959429627409714.html
LOCATION:Der böhmische Traum - Int. Blasmusikfestival zum Mitmachen
GEO:48.864183;15.009203
URL:https://eventfrog.de/de/p/festivals/weitere-festivals/int-blasmusikfestival-der-boehmische-traum-2026-7451959429627409714.html
END:VEVENT
END:VCALENDAR