BEGIN:VCALENDAR
VERSION:2.0
PRODID:EVENTFROG//EVENT//ICAL
BEGIN:VEVENT
UID:20260424T123548Z-7451971688634270358@eventfrog.de
DTSTAMP:20260424T123548Z
DTSTART:20261120T183000Z
DTEND:20261120T200000Z
SUMMARY:Feline Tecklenburg: Das Wir in Wirtschaft
DESCRIPTION:Feline Tecklenburg spricht über Care Arbeit, ihren Wert in Gesellschaft und Wirtschaft und was sich dringend ändern muss.\n\nhttps://eventfrog.de/de/p/theater-buehne/lesung/feline-tecklenburg-das-wir-in-wirtschaft-7451971688634270358.html
LOCATION:Büchereck Niendorf Nord
GEO:53.640136;9.947717
URL:https://eventfrog.de/de/p/theater-buehne/lesung/feline-tecklenburg-das-wir-in-wirtschaft-7451971688634270358.html
END:VEVENT
END:VCALENDAR