BEGIN:VCALENDAR
VERSION:2.0
PRODID:EVENTFROG//EVENT//ICAL
BEGIN:VEVENT
UID:20260426T012644Z-7451974868516481719@eventfrog.de
DTSTAMP:20260426T012644Z
DTSTART:20260517T090000Z
SUMMARY:Hohe Wasser - Überschwemmungen und ihre Folgen für Aarburg
DESCRIPTION:Historiker Aleksander Jauk referiert über Überschwemmungen in Aarburg und Präventionen, danach Apéro zur Ausstellungseröffnung.\n\nhttps://eventfrog.de/de/p/kunst-ausstellungen/vernissage/hohe-wasser-ueberschwemmungen-und-ihre-folgen-fuer-aarburg-7451974868516481719.html
LOCATION:Museum Aarburg
GEO:47.321622;7.898667
URL:https://eventfrog.de/de/p/kunst-ausstellungen/vernissage/hohe-wasser-ueberschwemmungen-und-ihre-folgen-fuer-aarburg-7451974868516481719.html
END:VEVENT
END:VCALENDAR