BEGIN:VCALENDAR
VERSION:2.0
PRODID:EVENTFROG//EVENT//ICAL
BEGIN:VEVENT
UID:20260424T083449Z-7451977423959102873@eventfrog.de
DTSTAMP:20260424T083449Z
DTSTART:20260508T210000Z
DTEND:20260509T030000Z
SUMMARY:PURO LATINO EVERY FRIDAY @ FLAMINGO CLUB ZÜRICH
DESCRIPTION:Puro Latino Every Friday @ Flamingo Club Zürich\n\nhttps://eventfrog.de/de/p/partys/latin-brasil/puro-latino-every-friday-flamingo-club-zuerich-7451977423959102873.html
LOCATION:Flamingo Club
GEO:47.382199;8.534525
URL:https://eventfrog.de/de/p/partys/latin-brasil/puro-latino-every-friday-flamingo-club-zuerich-7451977423959102873.html
END:VEVENT
END:VCALENDAR