BEGIN:VCALENDAR
VERSION:2.0
PRODID:EVENTFROG//EVENT//ICAL
BEGIN:VEVENT
UID:20260422T040851Z-7451978386065332327@eventfrog.de
DTSTAMP:20260422T040851Z
DTSTART:20260620T133000Z
DTEND:20260620T150000Z
SUMMARY:Japan meets Europe
DESCRIPTION:Das Konzertduo Riemer und Brummer präsentiert im TheaterLabor TraumGesicht Standard- und unbekannte Werke aus Japan und Europa.\n\nhttps://eventfrog.de/de/p/klassik-opern/klassik/japan-meets-europe-7451978386065332327.html
LOCATION:TheaterLabor TraumGesicht e.V.
GEO:51.249498;6.768917
URL:https://eventfrog.de/de/p/klassik-opern/klassik/japan-meets-europe-7451978386065332327.html
END:VEVENT
END:VCALENDAR