BEGIN:VCALENDAR
VERSION:2.0
PRODID:EVENTFROG//EVENT//ICAL
BEGIN:VEVENT
UID:20260420T210444Z-7451982147668186726@eventfrog.de
DTSTAMP:20260420T210444Z
DTSTART:20260503T090000Z
DTEND:20260503T100000Z
SUMMARY:Führung «Die Eule ist pink – farbige Geschichten»
DESCRIPTION:Farben wirken individuell und kulturell verschieden. Führung «Die Eule ist pink»: Wie prägen Farben Wahrnehmung und Handeln?\n\nhttps://eventfrog.de/de/p/fuehrungen-vortraege/fuehrung/fuehrung-die-eule-ist-pink-farbige-geschichten-7451982147668186726.html
LOCATION:Museum der Kulturen Basel
GEO:47.557200;7.590650
URL:https://eventfrog.de/de/p/fuehrungen-vortraege/fuehrung/fuehrung-die-eule-ist-pink-farbige-geschichten-7451982147668186726.html
END:VEVENT
END:VCALENDAR