BEGIN:VCALENDAR
VERSION:2.0
PRODID:EVENTFROG//EVENT//ICAL
BEGIN:VEVENT
UID:20260424T081949Z-7451982168950087582@eventfrog.de
DTSTAMP:20260424T081949Z
DTSTART:20260504T150000Z
DTEND:20260504T160000Z
SUMMARY:Fitboxing Basics
DESCRIPTION:Fitboxing ist ein intensives Ganzkörperworkout mit Elementen aus dem Kickboxen.\n\nhttps://eventfrog.de/de/p/sport-fitness/kampfsport/fitboxing-basics-7451982168950087582.html
LOCATION:Marienthaler Str. 137
GEO:50.718820;12.453851
URL:https://eventfrog.de/de/p/sport-fitness/kampfsport/fitboxing-basics-7451982168950087582.html
END:VEVENT
END:VCALENDAR