BEGIN:VCALENDAR
VERSION:2.0
PRODID:EVENTFROG//EVENT//ICAL
BEGIN:VEVENT
UID:20260420T210443Z-7451983579851026047@eventfrog.de
DTSTAMP:20260420T210443Z
DTSTART:20260503T110000Z
DTEND:20260503T120000Z
SUMMARY:Führung für Besucher*innen mit/ohne Sehbehinderung/Blindheit
DESCRIPTION:Inklusive Führung «Die Eule ist pink»: hörend, tastend und riechend Farben entdecken. Mit Audioguide neue Zugänge zu Farbe, Identität und Kolonialismus erleben. Anmeldung erforderlich.\n\nhttps://eventfrog.de/de/p/fuehrungen-vortraege/fuehrung/fuehrung-fuer-besucher-innen-mit-ohne-sehbehinderung-blindheit-7451983579851026047.html
LOCATION:Museum der Kulturen Basel
GEO:47.557200;7.590650
URL:https://eventfrog.de/de/p/fuehrungen-vortraege/fuehrung/fuehrung-fuer-besucher-innen-mit-ohne-sehbehinderung-blindheit-7451983579851026047.html
END:VEVENT
END:VCALENDAR