BEGIN:VCALENDAR
VERSION:2.0
PRODID:EVENTFROG//EVENT//ICAL
BEGIN:VEVENT
UID:20260424T082025Z-7451985181907364723@eventfrog.de
DTSTAMP:20260424T082025Z
DTSTART:20260525T083000Z
DTEND:20260525T093000Z
SUMMARY:Fitboxing Basics
DESCRIPTION:Fitboxing ist ein intensives Ganzkörperworkout mit Elementen aus dem Kickboxen.\n\nhttps://eventfrog.de/de/p/sport-fitness/kampfsport/fitboxing-basics-7451985181907364723.html
LOCATION:Marienthaler Str. 137
GEO:50.718820;12.453851
URL:https://eventfrog.de/de/p/sport-fitness/kampfsport/fitboxing-basics-7451985181907364723.html
END:VEVENT
END:VCALENDAR