BEGIN:VCALENDAR
VERSION:2.0
PRODID:EVENTFROG//EVENT//ICAL
BEGIN:VEVENT
UID:20260424T101453Z-7451987891406777820@eventfrog.de
DTSTAMP:20260424T101453Z
DTSTART:20260805T140000Z
DTEND:20260805T150000Z
SUMMARY:Reparieren – Renovieren – Restaurieren
DESCRIPTION:Themenführung in der Abegg-Stiftung mit Dr. Caroline Vogt, Leiterin Studiengang\n\nhttps://eventfrog.de/de/p/fuehrungen-vortraege/fuehrung/reparieren-renovieren-restaurieren-7451987891406777820.html
LOCATION:Abegg-Stiftung
GEO:46.815411;7.494730
URL:https://eventfrog.de/de/p/fuehrungen-vortraege/fuehrung/reparieren-renovieren-restaurieren-7451987891406777820.html
END:VEVENT
END:VCALENDAR