BEGIN:VCALENDAR
VERSION:2.0
PRODID:EVENTFROG//EVENT//ICAL
BEGIN:VEVENT
UID:20260420T210450Z-7451989104160421481@eventfrog.de
DTSTAMP:20260420T210450Z
DTSTART:20260510T110000Z
DTEND:20260510T120000Z
SUMMARY:Führung für Besucher*innen mit/ohne Sehbehinderung/Blindheit
DESCRIPTION:Führung «Die Eule ist pink» für Besucher*innen mit/ohne Sehbehinderung: Farben hörend, tastend und riechend erleben. Zu Identität, Kolonialismus und Pigmenten. Anmeldung erforderlich.\n\n\nhttps://eventfrog.de/de/p/fuehrungen-vortraege/fuehrung/fuehrung-fuer-besucher-innen-mit-ohne-sehbehinderung-blindheit-7451989104160421481.html
LOCATION:Museum der Kulturen Basel
GEO:47.557200;7.590650
URL:https://eventfrog.de/de/p/fuehrungen-vortraege/fuehrung/fuehrung-fuer-besucher-innen-mit-ohne-sehbehinderung-blindheit-7451989104160421481.html
END:VEVENT
END:VCALENDAR