BEGIN:VCALENDAR
VERSION:2.0
PRODID:EVENTFROG//EVENT//ICAL
BEGIN:VEVENT
UID:20260420T224107Z-7451990657881657665@eventfrog.de
DTSTAMP:20260420T224107Z
DTSTART:20260509T180000Z
DTEND:20260509T204500Z
SUMMARY:HECHT - Lovers Tour
DESCRIPTION:Die Band Hecht spielt am 9. Mai 2026 in der St. Jakobshalle Basel. Das Konzert ist Teil ihrer Lovers Tour.\n\nhttps://eventfrog.de/de/p/konzerte/hip-hop-rap/hecht-lovers-tour-7451990657881657665.html
LOCATION:St. Jakobshalle Basel
GEO:47.539899;7.618258
URL:https://eventfrog.de/de/p/konzerte/hip-hop-rap/hecht-lovers-tour-7451990657881657665.html
END:VEVENT
END:VCALENDAR